BEGIN:VCALENDAR
VERSION:2.0
PRODID:-//CCA Maryland - ECPv6.15.18//NONSGML v1.0//EN
CALSCALE:GREGORIAN
METHOD:PUBLISH
X-ORIGINAL-URL:https://www.ccamd.org
X-WR-CALDESC:Events for CCA Maryland
REFRESH-INTERVAL;VALUE=DURATION:PT1H
X-Robots-Tag:noindex
X-PUBLISHED-TTL:PT1H
BEGIN:VTIMEZONE
TZID:America/New_York
BEGIN:DAYLIGHT
TZOFFSETFROM:-0500
TZOFFSETTO:-0400
TZNAME:EDT
DTSTART:20230312T070000
END:DAYLIGHT
BEGIN:STANDARD
TZOFFSETFROM:-0400
TZOFFSETTO:-0500
TZNAME:EST
DTSTART:20231105T060000
END:STANDARD
BEGIN:DAYLIGHT
TZOFFSETFROM:-0500
TZOFFSETTO:-0400
TZNAME:EDT
DTSTART:20240310T070000
END:DAYLIGHT
BEGIN:STANDARD
TZOFFSETFROM:-0400
TZOFFSETTO:-0500
TZNAME:EST
DTSTART:20241103T060000
END:STANDARD
BEGIN:DAYLIGHT
TZOFFSETFROM:-0500
TZOFFSETTO:-0400
TZNAME:EDT
DTSTART:20250309T070000
END:DAYLIGHT
BEGIN:STANDARD
TZOFFSETFROM:-0400
TZOFFSETTO:-0500
TZNAME:EST
DTSTART:20251102T060000
END:STANDARD
BEGIN:DAYLIGHT
TZOFFSETFROM:-0500
TZOFFSETTO:-0400
TZNAME:EDT
DTSTART:20260308T070000
END:DAYLIGHT
BEGIN:STANDARD
TZOFFSETFROM:-0400
TZOFFSETTO:-0500
TZNAME:EST
DTSTART:20261101T060000
END:STANDARD
END:VTIMEZONE
BEGIN:VEVENT
DTSTART;VALUE=DATE:20240401
DTEND;VALUE=DATE:20250401
DTSTAMP:20260423T074455
CREATED:20240409T154352Z
LAST-MODIFIED:20240823T001814Z
UID:12821-1711929600-1743465599@www.ccamd.org
SUMMARY:The Great Chesapeake Invasives Count
DESCRIPTION:Help collect important data while competing for great prizes!
URL:https://www.ccamd.org/the-great-chesapeake-invasives-count/#new_tab
CATEGORIES:CCA Maryland Fishing Tournaments
ATTACH;FMTTYPE=image/png:https://www.ccamd.org/wp-content/uploads/2024/04/GCIC-2024-event-thumb.png
END:VEVENT
BEGIN:VEVENT
DTSTART;TZID=America/New_York:20241101T073000
DTEND;TZID=America/New_York:20250228T235900
DTSTAMP:20260423T074455
CREATED:20241016T203609Z
LAST-MODIFIED:20241016T203609Z
UID:13427-1730446200-1740787140@www.ccamd.org
SUMMARY:Pickerel Championship 24 - 25
DESCRIPTION:Sign up today and have FOUR MONTHS of great fishing to catch\, photo and release your way to some great trophies & other prizes.  You may register any time before the tournament ends.
URL:https://www.ccamd.org/pickerel-championship/#new_tab
CATEGORIES:CCA Maryland Fishing Tournaments
ATTACH;FMTTYPE=image/png:https://www.ccamd.org/wp-content/uploads/2022/10/pickerel-championship.png
END:VEVENT
BEGIN:VEVENT
DTSTART;TZID=America/New_York:20250110T080000
DTEND;TZID=America/New_York:20250112T170000
DTSTAMP:20260423T074455
CREATED:20241203T145742Z
LAST-MODIFIED:20241209T223808Z
UID:13542-1736496000-1736701200@www.ccamd.org
SUMMARY:Chesapeake Bay Boat Show
DESCRIPTION:Don’t miss the Chesapeake Bay Boat Show at the Timonium fairgrounds January 10-12th.   Come and find your next boat and some great deals on fishing tackle and more! \nJoin CCA all three days at our Kid’s Corner for family friendly arts & crafts activities. \n\n*New for 2025 – Saturday January 11th – CCA Happy Hour- 5-8pm – Sponsored by the Great Chesapeake Invasives Count & Triple City Anglers\,\n\nIncludes influencer panel w/ @ernie-the-hog-snatcher\, @hazlifefishing and capt. Tom Weaver @leaveittoweaver\nmeet & greet and Q&A on fishing opportunities throughout the region.\n\n\n\nShow tickets and more details are available at: thechesapeakebayboatshow.com
URL:https://www.ccamd.org/calendar/chesapeake-bay-boat-show/
CATEGORIES:Partner Events,Youth & Family
END:VEVENT
BEGIN:VEVENT
DTSTART;TZID=America/New_York:20250116T173000
DTEND;TZID=America/New_York:20250116T193000
DTSTAMP:20260423T074455
CREATED:20241112T155449Z
LAST-MODIFIED:20241209T223832Z
UID:13500-1737048600-1737055800@www.ccamd.org
SUMMARY:Angler's Night Out - Cap'n Mike on Fishing the CBBT & VA Beach
DESCRIPTION:Join us at the Ruddy Duck in Solomons for Angler’s Night Out presented by Cedar Point Federal Credit Union for an engaging presentation from local Mike Griffiths on how to successfully fish the CBBT and VA Beach. \nGather 5:30\, Talk 6pm followed by a Q&A. \nThis event is free and open to the public and seating is first come first serve\, so arrive early and enjoy some great Ruddy Duck offerings before the talk begins. \n \nPresented by Cedar Point Federal Credit Union
URL:https://www.ccamd.org/calendar/anglers-night-out-mike-griffiths-on-fishing-the-cbbt-va-beach/
LOCATION:Ruddy Duck\, 13200 Dowell Rd\, \, MD\, Solomons\, MD\, 20688\, United States
CATEGORIES:Chapter Events
ATTACH;FMTTYPE=image/jpeg:https://www.ccamd.org/wp-content/uploads/2024/11/CCA-AnglersNightOut-Jan16-RuddyDuck-1.jpg
ORGANIZER;CN="Jesse Howe":MAILTO:jessekhowe@gmail.com
END:VEVENT
BEGIN:VEVENT
DTSTART;TZID=America/New_York:20250122T173000
DTEND;TZID=America/New_York:20250122T193000
DTSTAMP:20260423T074455
CREATED:20241127T000409Z
LAST-MODIFIED:20250116T022440Z
UID:13537-1737567000-1737574200@www.ccamd.org
SUMMARY:SoMD Chapter Happy Hour @ 1936 Bar & Grill (w/CBOCS)
DESCRIPTION:Join CCA southern Maryland chapter for a cosponsored happy hour presented by Cedar Point Federal Credit Union with the Chesapeake Beach Oyster Cultivation Society (CBOCS) upstairs at the 1936 Bar & Grill in Chesapeake Beach to make some new friends with like minded folks\, and find out how you can help with CCA’s work in your local area. \nCash Bar. Appetizers and light fare will be provided. \nThis is a casual\, low key event and perfect for anyone not familiar with CCA Maryland.
URL:https://www.ccamd.org/calendar/southern-maryland-chapter-happy-hour-1936-bar-grill-w-cbocs/
LOCATION:1936 Bar & Grill\, 4160 Mears Ave\, Chesapeake Beach\, MD\, 20732\, United States
CATEGORIES:Chapter Events
ATTACH;FMTTYPE=image/jpeg:https://www.ccamd.org/wp-content/uploads/2024/11/CCA-HappyHour-Jan22-RodNReel.jpg
ORGANIZER;CN="Jesse Howe":MAILTO:jessekhowe@gmail.com
END:VEVENT
END:VCALENDAR