BEGIN:VCALENDAR
VERSION:2.0
PRODID:-//CCA Maryland - ECPv6.15.18//NONSGML v1.0//EN
CALSCALE:GREGORIAN
METHOD:PUBLISH
X-ORIGINAL-URL:https://www.ccamd.org
X-WR-CALDESC:Events for CCA Maryland
REFRESH-INTERVAL;VALUE=DURATION:PT1H
X-Robots-Tag:noindex
X-PUBLISHED-TTL:PT1H
BEGIN:VTIMEZONE
TZID:America/New_York
BEGIN:DAYLIGHT
TZOFFSETFROM:-0500
TZOFFSETTO:-0400
TZNAME:EDT
DTSTART:20230312T070000
END:DAYLIGHT
BEGIN:STANDARD
TZOFFSETFROM:-0400
TZOFFSETTO:-0500
TZNAME:EST
DTSTART:20231105T060000
END:STANDARD
BEGIN:DAYLIGHT
TZOFFSETFROM:-0500
TZOFFSETTO:-0400
TZNAME:EDT
DTSTART:20240310T070000
END:DAYLIGHT
BEGIN:STANDARD
TZOFFSETFROM:-0400
TZOFFSETTO:-0500
TZNAME:EST
DTSTART:20241103T060000
END:STANDARD
BEGIN:DAYLIGHT
TZOFFSETFROM:-0500
TZOFFSETTO:-0400
TZNAME:EDT
DTSTART:20250309T070000
END:DAYLIGHT
BEGIN:STANDARD
TZOFFSETFROM:-0400
TZOFFSETTO:-0500
TZNAME:EST
DTSTART:20251102T060000
END:STANDARD
BEGIN:DAYLIGHT
TZOFFSETFROM:-0500
TZOFFSETTO:-0400
TZNAME:EDT
DTSTART:20260308T070000
END:DAYLIGHT
BEGIN:STANDARD
TZOFFSETFROM:-0400
TZOFFSETTO:-0500
TZNAME:EST
DTSTART:20261101T060000
END:STANDARD
END:VTIMEZONE
BEGIN:VEVENT
DTSTART;VALUE=DATE:20240401
DTEND;VALUE=DATE:20250401
DTSTAMP:20260423T044602
CREATED:20240409T154352Z
LAST-MODIFIED:20240823T001814Z
UID:12821-1711929600-1743465599@www.ccamd.org
SUMMARY:The Great Chesapeake Invasives Count
DESCRIPTION:Help collect important data while competing for great prizes!
URL:https://www.ccamd.org/the-great-chesapeake-invasives-count/#new_tab
CATEGORIES:CCA Maryland Fishing Tournaments
ATTACH;FMTTYPE=image/png:https://www.ccamd.org/wp-content/uploads/2024/04/GCIC-2024-event-thumb.png
END:VEVENT
BEGIN:VEVENT
DTSTART;TZID=America/New_York:20250306T180000
DTEND;TZID=America/New_York:20250306T200000
DTSTAMP:20260423T044602
CREATED:20250227T202924Z
LAST-MODIFIED:20250304T000409Z
UID:13676-1741284000-1741291200@www.ccamd.org
SUMMARY:CCA Central Region Happy Hour
DESCRIPTION:Join us at 1623 Brewing for a Central Region Chapter Happy Hour. \nNew to CCA?  This is a perfect opportunity to connect with local members and find out more about us and our local impact. \nThis event is free and open to the public. Please bring a friend!
URL:https://www.ccamd.org/calendar/cca-central-region-happy-hour/
LOCATION:1623 Brewing\, 5975 Exchange Drive Suite H-L\, Eldersburg\, MD\, 21784\, United States
CATEGORIES:Chapter Events
ATTACH;FMTTYPE=image/jpeg:https://www.ccamd.org/wp-content/uploads/2025/02/CCA-HappyHour-March6-1623Brewing_1080.jpg
ORGANIZER;CN="Mike Wissel":MAILTO:mwisselcca@gmail.com
END:VEVENT
BEGIN:VEVENT
DTSTART;TZID=America/New_York:20250308T180000
DTEND;TZID=America/New_York:20250308T210000
DTSTAMP:20260423T044602
CREATED:20250123T160910Z
LAST-MODIFIED:20250123T160910Z
UID:13625-1741456800-1741467600@www.ccamd.org
SUMMARY:CCA Virginia's Save a Fish - Build a Reef Banquet
DESCRIPTION:Join us for CCA Virginia’s Northern Virginia Chapter’s Save a Fish – Build a Reef banquet. \nEnjoy dinner\, appetizers\, beer\, wine & farm raised oysters while ensuring the health and conservation of our marine resources and anglers’ access to them. \n  \n 
URL:https://www.ccamd.org/calendar/cca-virginias-save-a-fish-build-a-reef-banquet-2/
LOCATION:Arlington Fairfax Elks Lodge\, 8421 Arlington Blvd.\, Fairfax\, VA\, 22030\, United States
CATEGORIES:Fundraising Events
ATTACH;FMTTYPE=image/png:https://www.ccamd.org/wp-content/uploads/2025/01/CCA-NOVA-2025-720-×-403-px.png
ORGANIZER;CN="Rob Allen":MAILTO:robgallen10@gmail.com
END:VEVENT
BEGIN:VEVENT
DTSTART;TZID=America/New_York:20250312T173000
DTEND;TZID=America/New_York:20250312T200000
DTSTAMP:20260423T044602
CREATED:20241126T202859Z
LAST-MODIFIED:20250221T192604Z
UID:13527-1741800600-1741809600@www.ccamd.org
SUMMARY:Angler's Night Out - Pickerel Championship Awards + Everything Blue Catfish tips & tricks
DESCRIPTION:Join us at the West End Grill in Annapolis for Angler’s Night Out presented by Waterfront Marine for the CCA Pickerel Championship awards \nGather at 5:30pm w/ a talk and Q&A about everything you wanted to know about Blue Catfish w/ local fishing experts starting at 6pm and our Pickerel Championship awards presentation to follow. \nThis event is free and open to the public and seating is first come first serve\, so arrive early and enjoy some great West End Grill offerings before the talks begin. \n \nPresented by Waterfront Marine \n 
URL:https://www.ccamd.org/calendar/anglers-night-out-pickerel-championship-awards-everything-blue-catfish-tips-tricks/
LOCATION:West End Grill\, 2049 West St.\, Annapolis\, MD\, 21401
CATEGORIES:Chapter Events
ATTACH;FMTTYPE=image/jpeg:https://www.ccamd.org/wp-content/uploads/2024/11/CCA-ANO-March2025-WestEnd-Pickerel-Catfish_1080-1.jpg
ORGANIZER;CN="Jesse Howe":MAILTO:jessekhowe@gmail.com
END:VEVENT
BEGIN:VEVENT
DTSTART;TZID=America/New_York:20250318T093000
DTEND;TZID=America/New_York:20250318T123000
DTSTAMP:20260423T044602
CREATED:20240913T155119Z
LAST-MODIFIED:20250221T222107Z
UID:13371-1742290200-1742301000@www.ccamd.org
SUMMARY:Patuxent Appeal ES (CCPS) Reef Ball Build
DESCRIPTION:CCA Maryland is a proud partner of Calvert County Public Schools (CCPS) to support habitat construction via reef ball building with every 5th grade class and student in the county through their CHESPAX program. \nRSVP today to volunteer for this event then complete the next steps in your confirmation email – next steps must be completed to volunteer for Calvert County Public Schools.
URL:https://www.ccamd.org/calendar/patuxent-appeal-es-reef-ball-build/
LOCATION:Patuxent Appeal Elementary\, 35 Appeal Ln.\, Lusby\, MD\, 20657\, United States
CATEGORIES:Volunteer Opportunities
ATTACH;FMTTYPE=image/jpeg:https://www.ccamd.org/wp-content/uploads/2023/01/Reef-Ball-Build-1.jpg
ORGANIZER;CN="Jesse Howe":MAILTO:jessekhowe@gmail.com
END:VEVENT
BEGIN:VEVENT
DTSTART;TZID=America/New_York:20250322T173000
DTEND;TZID=America/New_York:20250322T210000
DTSTAMP:20260423T044602
CREATED:20231101T230730Z
LAST-MODIFIED:20250221T221958Z
UID:12404-1742664600-1742677200@www.ccamd.org
SUMMARY:Kent Narrows Chapter Annual Fundraising Banquet
DESCRIPTION:Oyster Bar – Dinner – Open Bar – Live Music –  Raffles – Silent & Live Auctions\nThe Kent Narrows Chapter of Coastal Conservation Association (CCA) Maryland welcomes you to join us for a celebration of conservation\, and all things Chesapeake Bay. \nAs a recreational fishing based organization\, we know that the public’s connection to the Chesapeake Bay through fishing and boating is what drives the passion to ensure that future generations will also enjoy what is so near and dear to us. \nThis fundraising dinner directly supports CCA Maryland’s focus on ensuring the health of our marine resources and anglers access to them\, and our objective to conserve\, promote and enhance our marine resources for the benefit of the general public. \nAs a local hub of volunteers from Kent Narrows\, our chapter has come together for more than 25 years to support our cause\, and connect with others throughout our community.
URL:https://www.ccamd.org/calendar/kent-narrows-chapter-banquet/
LOCATION:Kent Island Volunteer Fire Department\, 1610 Main St\, Chester\, MD\, 21619\, United States
CATEGORIES:Fundraising Events
ATTACH;FMTTYPE=image/png:https://www.ccamd.org/wp-content/uploads/2023/11/KN-2025-FB-Cover-and-event-1920-x-1080-px.png
ORGANIZER;CN="Jesse Howe":MAILTO:jessekhowe@gmail.com
END:VEVENT
BEGIN:VEVENT
DTSTART;TZID=America/New_York:20250325T093000
DTEND;TZID=America/New_York:20250325T123000
DTSTAMP:20260423T044602
CREATED:20250117T162924Z
LAST-MODIFIED:20250321T152625Z
UID:13614-1742895000-1742905800@www.ccamd.org
SUMMARY:Plum Point ES (CCPS) Reef Ball Build
DESCRIPTION:CCA Maryland is a proud partner of Calvert County Public Schools (CCPS) to support habitat construction via reef ball building with every 5th grade class and student in the county through their CHESPAX program. \nRSVP today to volunteer for this event then complete the next steps in your confirmation email – next steps must be completed to volunteer for Calvert County Public Schools.
URL:https://www.ccamd.org/calendar/plum-point-es-ccps-reef-ball-build/
LOCATION:Plum Point Elementary School\, 1245 Plum Point Rd\, Huntingtown\, Maryland\, 20639\, United States
CATEGORIES:Volunteer Opportunities
ATTACH;FMTTYPE=image/jpeg:https://www.ccamd.org/wp-content/uploads/2023/01/Reef-Ball-Build-1.jpg
ORGANIZER;CN="Jesse Howe":MAILTO:jessekhowe@gmail.com
END:VEVENT
BEGIN:VEVENT
DTSTART;TZID=America/New_York:20250327T093000
DTEND;TZID=America/New_York:20250327T123000
DTSTAMP:20260423T044602
CREATED:20250128T162010Z
LAST-MODIFIED:20250221T221303Z
UID:13616-1743067800-1743078600@www.ccamd.org
SUMMARY:Huntingtown ES (CCPS) Reef Ball Build
DESCRIPTION:CCA Maryland is a proud partner of Calvert County Public Schools (CCPS) to support habitat construction via reef ball building with every 5th grade class and student in the county through their CHESPAX program. \nRSVP today to volunteer for this event then complete the next steps in your confirmation email – next steps must be completed to volunteer for Calvert County Public Schools.
URL:https://www.ccamd.org/calendar/huntingtown-es-ccps-reef-ball-build-2/
LOCATION:Huntingtown Elementary School\, 4345 Huntingtown Rd\, Huntingtown\, MD\, 20639\, United States
CATEGORIES:Volunteer Opportunities
ATTACH;FMTTYPE=image/jpeg:https://www.ccamd.org/wp-content/uploads/2023/01/Reef-Ball-Build-1.jpg
ORGANIZER;CN="Jesse Howe":MAILTO:jessekhowe@gmail.com
END:VEVENT
BEGIN:VEVENT
DTSTART;TZID=America/New_York:20250327T173000
DTEND;TZID=America/New_York:20250327T193000
DTSTAMP:20260423T044602
CREATED:20250212T031258Z
LAST-MODIFIED:20250303T235812Z
UID:13649-1743096600-1743103800@www.ccamd.org
SUMMARY:Angler's Night Out - Treble Hook Replacement Workshop
DESCRIPTION:As responsible recreational anglers\, we owe it to ourselves\, our fellow anglers\, and of course the fish to do our part to minimize mortality.  FishTalk magazine has one heck of an article which outlines several tactics you can do to protect the resource\, and at the top of that list is changing out your treble hooks for single hooks. \nJoin us Thursday\, March 27th at Isaac’s for a treble hook replacement workshop as we not only go over the process\, but will have several pairs of pliers and in line single hooks to assist you in becoming a more conservation minded angler. \nJust bring your existing lure collection with treble hooks\, and we will make these changes together. \nGather at 5:30pm w/ a short talk by CCA leadership  followed by the workshop. \nThis event is free and open to the public and seating is first come first serve\, so arrive early. \n \nPresented by Cedar Point Federal Credit Union \n 
URL:https://www.ccamd.org/calendar/anglers-night-out-treble-hook-replacement-workshop/
LOCATION:Isaac’s\, 155 Holiday Drive\, Solomons\, MD\, 20688\, United States
CATEGORIES:Chapter Events
ATTACH;FMTTYPE=image/jpeg:https://www.ccamd.org/wp-content/uploads/2025/02/CCA-ANO-March27_2025_Isaacs_1080.jpg
ORGANIZER;CN="Jesse Howe":MAILTO:jessekhowe@gmail.com
END:VEVENT
END:VCALENDAR